BEGIN:VCALENDAR
VERSION:2.0
PRODID:-//ChamberMaster//Event Calendar 2.0//EN
METHOD:PUBLISH
X-PUBLISHED-TTL:P3D
REFRESH-INTERVAL:P3D
CALSCALE:GREGORIAN
BEGIN:VEVENT
DTSTART:20260516T003000Z
DTEND:20260516T033000Z
X-MICROSOFT-CDO-ALLDAYEVENT:FALSE
SUMMARY:Abbey Lane @ Wisco 8
DESCRIPTION:Live Music
X-ALT-DESC;FMTTYPE=text/html:Live Music
LOCATION:Wisco 8 2700 Riley Rd Sparta WI 54656
UID:e.62.23645
SEQUENCE:3
DTSTAMP:20260423T084311Z
URL:https://tourism.bikesparta.com/events/details/abbey-lane-wisco-8-23645
END:VEVENT

END:VCALENDAR
