BEGIN:VCALENDAR
VERSION:2.0
PRODID:-//ChamberMaster//Event Calendar 2.0//EN
METHOD:PUBLISH
X-PUBLISHED-TTL:P3D
REFRESH-INTERVAL:P3D
CALSCALE:GREGORIAN
BEGIN:VEVENT
DTSTART:20230918T170000Z
DTEND:20230919T220000Z
X-MICROSOFT-CDO-ALLDAYEVENT:FALSE
SUMMARY:Blood Drive by Versiti
DESCRIPTION:Turn a new leaf by giving blood this fall! Ran by Versiti Blood Center\, there will be a blood drive located at Trinity Lutheran Church\, 612 North Water Street\, Sparta. Schedule an appointment to be a priority donor. Call (877) 232-4376 or visit versiti.org/wi to schedule your appointment now!
X-ALT-DESC;FMTTYPE=text/html:Turn a new leaf by giving blood this fall! Ran by Versiti Blood Center\, there will be a blood drive located at Trinity Lutheran Church\, 612 North Water Street\, Sparta. Schedule an appointment to be a priority donor. Call (877) 232-4376 or visit versiti.org/wi to schedule your appointment now!
LOCATION:Trinity Lutheran Church\, 612 North Water Street\, Sparta
UID:e.62.22878
SEQUENCE:3
DTSTAMP:20260423T101658Z
URL:https://tourism.bikesparta.com/events/details/blood-drive-by-versiti-22878
END:VEVENT

END:VCALENDAR
