BEGIN:VCALENDAR
VERSION:2.0
PRODID:-//ChamberMaster//Event Calendar 2.0//EN
METHOD:PUBLISH
X-PUBLISHED-TTL:P3D
REFRESH-INTERVAL:P3D
CALSCALE:GREGORIAN
BEGIN:VEVENT
DTSTART:20240926T233000Z
DTEND:20240927T030000Z
X-MICROSOFT-CDO-ALLDAYEVENT:FALSE
SUMMARY:Boos and Booze Presented by the House of Shadows
DESCRIPTION:Meet at House of Shadows at 6:30 for a private guided tour of the House. Meet at House of Shadows at 6:30 for a private guided tour of the House. Meet at the House of Shadows at 6:30pm for a private tour and to conduct a paranormal investigation. Enjoy a complimentary wicked spirited drink & light appetizers at Cork & Barrel. Listen to testimonies of Paranormal experiences from haunted house staff. Proceeds to benefit the Boys & Girls Club of Sparta.
X-ALT-DESC;FMTTYPE=text/html:Meet at House of Shadows at 6:30 for a private guided tour of the House. Meet at House of Shadows at 6:30 for a private guided tour of the House. Meet at the House of Shadows at 6:30pm for a private tour and to conduct a paranormal investigation. Enjoy a complimentary wicked spirited drink &amp\; light appetizers at Cork &amp\; Barrel. Listen to testimonies of Paranormal experiences from haunted house staff. Proceeds to benefit the Boys &amp\; Girls Club of Sparta.
LOCATION:House of Shadows - 501 Osborne Drive - Sparta Cork & Barrel
UID:e.62.23005
SEQUENCE:3
DTSTAMP:20260423T084928Z
URL:https://tourism.bikesparta.com/events/details/boos-and-booze-presented-by-the-house-of-shadows-23005
END:VEVENT

END:VCALENDAR
