BEGIN:VCALENDAR
VERSION:2.0
PRODID:-//ChamberMaster//Event Calendar 2.0//EN
METHOD:PUBLISH
X-PUBLISHED-TTL:P3D
REFRESH-INTERVAL:P3D
CALSCALE:GREGORIAN
BEGIN:VEVENT
DTSTART;VALUE=DATE:20260415
DTEND;VALUE=DATE:20260515
TRANSP:TRANSPARENT
X-MICROSOFT-CDO-ALLDAYEVENT:TRUE
SUMMARY:Bowling Operations Specialist
DESCRIPTION:This position is located at McCoy's which includes Dining\, Sports Bar\, Bowling\, Recreation and Leisure Activities and Conference and Catering Spaces. McCoy's Team provides high-quality service and a place to unwind for the Fort McCoy Community. Announcement will a have a first cut office date of April 28\, 2026. Applicants that submit an application packet prior to that date and found eligible may be given first consideration. Duties   Supports recreational activity by applying knowledge and skill in the use of equipment\, materials and facilities.   Instructs customers in the proper use of equipment and programs within area of responsibility.   Helps plan\, conduct\, publicize\, and arrange support for a variety of sponsored special events\, social activities\, tournaments\, leagues and related functions.   Issues/receives equipment. Collects fees\, accounts for monies\, safeguards funds and makes daily deposits.   Cleans and performs minor maintenance on facility equipment. Performs other duties as assigned. Requirements Conditions of employment   Direct Deposit and Social Security Card is required.   Meet qualification/eligibility/background requirements for this position.   A one-year probationary period may be required.   Satisfactorily complete an employment verification (E-Verify) check.   Subject to satisfactory completion of all pre-employment checks in accordance with AR 215-3\, para.2 to include a Tier 1 background investigation.   Driver's license will be required if operating government vehicles.   Uniforms and name tags are provided and required.   Duties may involve working both indoors and outdoors.   Must be able to work an uncommon tour of duty. Operation is 7 days a week. Incumbent will be required to work days\, nights\, weekends\, and holidays. Shifts may vary due to mission. Qualifications Resumes must be two pages (or less). Resumes should clearly demonstrate the applicant's relevant experience\, skills\, knowledge and abilities as they pertain to this position. A qualified candidate must possess the following:   Work experience or education directly related to the duties to be performed. Apply Online: https://www.usajobs.gov/job/865281100 If you need assistance or have any questions about the application process please contact our office at (502) 898-4333.
X-ALT-DESC;FMTTYPE=text/html:This position is located at McCoy&#39\;s which includes Dining\, Sports Bar\, Bowling\, Recreation and Leisure Activities and Conference and Catering Spaces. McCoy&#39\;s Team provides high-quality service and a place to unwind for the Fort McCoy Community. Announcement will a have a first cut office date of April 28\, 2026. Applicants that submit an application packet prior to that date and found eligible may be given first consideration. Duties &bull\; Supports recreational activity by applying knowledge and skill in the use of equipment\, materials and facilities. &bull\; Instructs customers in the proper use of equipment and programs within area of responsibility. &bull\; Helps plan\, conduct\, publicize\, and arrange support for a variety of sponsored special events\, social activities\, tournaments\, leagues and related functions. &bull\; Issues/receives equipment. Collects fees\, accounts for monies\, safeguards funds and makes daily deposits. &bull\; Cleans and performs minor maintenance on facility equipment. Performs other duties as assigned. Requirements Conditions of employment &bull\; Direct Deposit and Social Security Card is required. &bull\; Meet qualification/eligibility/background requirements for this position. &bull\; A one-year probationary period may be required. &bull\; Satisfactorily complete an employment verification (E-Verify) check. &bull\; Subject to satisfactory completion of all pre-employment checks in accordance with AR 215-3\, para.2 to include a Tier 1 background investigation. &bull\; Driver&rsquo\;s license will be required if operating government vehicles. &bull\; Uniforms and name tags are provided and required. &bull\; Duties may involve working both indoors and outdoors. &bull\; Must be able to work an uncommon tour of duty. Operation is 7 days a week. Incumbent will be required to work days\, nights\, weekends\, and holidays. Shifts may vary due to mission. Qualifications Resumes must be two pages (or less). Resumes should clearly demonstrate the applicant&#39\;s relevant experience\, skills\, knowledge and abilities as they pertain to this position. A qualified candidate must possess the following: &bull\; Work experience or education directly related to the duties to be performed. Apply Online: https://www.usajobs.gov/job/865281100 If you need assistance or have any questions about the application process please contact our office at (502) 898-4333.
LOCATION:Fort McCoy\, WI
UID:e.62.23643
SEQUENCE:3
DTSTAMP:20260420T230608Z
URL:https://tourism.bikesparta.com/events/details/bowling-operations-specialist-23643
END:VEVENT

END:VCALENDAR
