BEGIN:VCALENDAR
VERSION:2.0
PRODID:-//ChamberMaster//Event Calendar 2.0//EN
METHOD:PUBLISH
X-PUBLISHED-TTL:P3D
REFRESH-INTERVAL:P3D
CALSCALE:GREGORIAN
BEGIN:VEVENT
DTSTART;VALUE=DATE:20260513
DTEND;VALUE=DATE:20260514
TRANSP:TRANSPARENT
X-MICROSOFT-CDO-ALLDAYEVENT:TRUE
SUMMARY:Boys & Girls Club Golf Outing
DESCRIPTION:Get those clubs polished and your swing ready because the Boys & Girls Club of Sparta is back for their 28th Annual Golf Fore Great Futures Outing! They are heading to the River Run Golf Course on Wednesday\, May 13th\, and you definitely want to be there. This isn't just a day on the green it's a day spent ensuring a bright future for the kids in our community! Event Details: Date: Wednesday\, May 13\, 2026 Time: 11:00 AM Shotgun Start Format: 4-Person Scramble (Carts Required) Perks: Lunch is available for purchase\, and a delicious dinner is included with your registration! More Than Just Golf! Expect a day packed with excitement: -50/50 Raffles & Raffle Baskets -Hole Games & Game Awards -A high-energy Live Auction Become a Sponsor! Want to get your business in front of the community while supporting a fantastic cause? They have sponsorship tiers ranging from $150 to $1\,500. Whether you want your logo on a hole or you want to be our "Fore!" the Kids Major Event Sponsor\, there's a spot for you! https://www.bgcofsparta.org/golfsponsor Ready to join? Register Now! https://www.bgcofsparta.org/golf-benefit For sponsorship inquiries or questions\, give them a call at 608.269.2582 or email info@bgcofsparta.org. Let's hit the links and make a difference! See you at River Run! ????????????
X-ALT-DESC;FMTTYPE=text/html:Get those clubs polished and your swing ready because the Boys &amp\; Girls Club of Sparta is back for their 28th Annual Golf Fore Great Futures Outing! They are heading to the River Run Golf Course on Wednesday\, May 13th\, and you definitely want to be there. This isn&rsquo\;t just a day on the green&mdash\;it&rsquo\;s a day spent ensuring a bright future for the kids in our community! Event Details: Date: Wednesday\, May 13\, 2026 Time: 11:00 AM Shotgun Start Format: 4-Person Scramble (Carts Required) Perks: Lunch is available for purchase\, and a delicious dinner is included with your registration! More Than Just Golf! Expect a day packed with excitement: -50/50 Raffles &amp\; Raffle Baskets -Hole Games &amp\; Game Awards -A high-energy Live Auction Become a Sponsor! Want to get your business in front of the community while supporting a fantastic cause? They have sponsorship tiers ranging from $150 to $1\,500. Whether you want your logo on a hole or you want to be our &quot\;Fore!&quot\; the Kids Major Event Sponsor\, there&rsquo\;s a spot for you! https://www.bgcofsparta.org/golfsponsor Ready to join? Register Now! https://www.bgcofsparta.org/golf-benefit For sponsorship inquiries or questions\, give them a call at 608.269.2582 or email info@bgcofsparta.org. Let&rsquo\;s hit the links and make a difference! See you at River Run! ????????????
LOCATION:River Run Golf Course - Sparta\, WI
UID:e.62.23647
SEQUENCE:3
DTSTAMP:20260423T084524Z
URL:https://tourism.bikesparta.com/events/details/boys-girls-club-golf-outing-23647
END:VEVENT

END:VCALENDAR
