BEGIN:VCALENDAR
VERSION:2.0
PRODID:-//ChamberMaster//Event Calendar 2.0//EN
METHOD:PUBLISH
X-PUBLISHED-TTL:P3D
REFRESH-INTERVAL:P3D
CALSCALE:GREGORIAN
BEGIN:VEVENT
DTSTART:20230504T160000Z
DTEND:20230504T230000Z
X-MICROSOFT-CDO-ALLDAYEVENT:FALSE
SUMMARY:Career\, Job\, and Education Fair
DESCRIPTION:Career\, Job\, & Education Fair
X-ALT-DESC;FMTTYPE=text/html:Career\, Job\, &amp\; Education Fair
LOCATION:Sparta High School Alton Ask Gym 506 N Black River St Sparta
UID:e.62.22699
SEQUENCE:3
DTSTAMP:20260421T012158Z
URL:https://tourism.bikesparta.com/events/details/career-job-and-education-fair-22699
END:VEVENT

END:VCALENDAR
