BEGIN:VCALENDAR
VERSION:2.0
PRODID:-//ChamberMaster//Event Calendar 2.0//EN
METHOD:PUBLISH
X-PUBLISHED-TTL:P3D
REFRESH-INTERVAL:P3D
CALSCALE:GREGORIAN
BEGIN:VEVENT
DTSTART:20191219T220000Z
DTEND:20191220T010000Z
X-MICROSOFT-CDO-ALLDAYEVENT:FALSE
SUMMARY:Chamber Depot Holiday Open House
DESCRIPTION:Come join us at the Chamber Office for Holiday Cheer!
X-ALT-DESC;FMTTYPE=text/html:<div>Come join us at the Chamber Office for Holiday Cheer!&nbsp\;</div>\n
LOCATION:111 Milwaukee Street\, Sparta\, WI
UID:e.62.4384
SEQUENCE:3
DTSTAMP:20260425T172722Z
URL:https://tourism.bikesparta.com/events/details/chamber-depot-holiday-open-house-12-19-2019-4384
END:VEVENT

END:VCALENDAR
