BEGIN:VCALENDAR
VERSION:2.0
PRODID:-//ChamberMaster//Event Calendar 2.0//EN
METHOD:PUBLISH
X-PUBLISHED-TTL:P3D
REFRESH-INTERVAL:P3D
CALSCALE:GREGORIAN
BEGIN:VEVENT
DTSTART:20230326T170000Z
DTEND:20230326T210000Z
X-MICROSOFT-CDO-ALLDAYEVENT:FALSE
SUMMARY:Chili Cook Off
DESCRIPTION:It's that time of year again for the 2nd annual Beer Shop Chili Cook Off! Is your chili good enough to beat Chili Master Bob? You better bring your A+ game! Bob will be back to defend his crown... or trophy\, and you have the chance to beat him! Or at least eat some amazing chilis.
X-ALT-DESC;FMTTYPE=text/html:It&#39\;s that time of year again for the 2nd annual Beer Shop Chili Cook Off! Is your chili good enough to beat Chili Master Bob? You better bring your A+ game! Bob will be back to defend his crown... or trophy\, and you have the chance to beat him! Or at least eat some amazing chilis.&nbsp\;
LOCATION:Beer Shop 200 W Wisconsin St Sparta\, WI 54656
UID:e.62.22757
SEQUENCE:3
DTSTAMP:20260422T171502Z
URL:https://tourism.bikesparta.com/events/details/chili-cook-off-22757
END:VEVENT

END:VCALENDAR
