BEGIN:VCALENDAR
VERSION:2.0
PRODID:-//ChamberMaster//Event Calendar 2.0//EN
METHOD:PUBLISH
X-PUBLISHED-TTL:P3D
REFRESH-INTERVAL:P3D
CALSCALE:GREGORIAN
BEGIN:VEVENT
DTSTART:20191225T170000Z
DTEND:20191225T200000Z
X-MICROSOFT-CDO-ALLDAYEVENT:FALSE
SUMMARY:Community Christmas Dinner
DESCRIPTION:Sparta Community\n\n Christmas Dinner\n\nA Close Community Connects\n\nSponsored by:\n\nSparta American Legion Post #100\n\nHwy 21/ 1116 Angelo Rd\n\n(608) 269-4411\n\n \n\n11:00am-2:00pm\n\nDecember 25\, 2015\n\nMeal is FREE\, donations accepted and appreciated\n\n(Proceeds from the event will be returned back to the community through local charities)\n\nReservations for five or more people requested\n\n \n\nHome deliveries available to homebound individuals\n\nCall the American Legion at 269-4411\n\nDelivered approximately 10:45am - 12:00 noon\n\nCarry outs also available at the Legion\n\n \n\nMenu:\n\nTurkey\, Ham\, Mashed Potatoes\, Yams\, Dressing\, Vegetables\, Cranberries\, Dinner Roll\, Pumpkin Pie\, and Other Assorted Dessert\n\n \n\nFor more information\, call American Legion at (608) 269-4411
X-ALT-DESC;FMTTYPE=text/html:<span style="font-size: 24pt\;"><span style="font-family: algerian\;">Sparta Community</span></span><br />\n<span style="font-size: 24pt\;"><span style="font-family: algerian\;">&nbsp\;Christmas Dinner</span></span><br />\n<span style="font-size: 24pt\;"><span style="color: rgb(0\, 176\, 80)\;"><span style="font-family: brush script mt\;">A Close Community Connects</span></span></span><br />\n<span style="font-size: 18pt\;"><span style="color: rgb(13\, 13\, 13)\;"><span style="font-family: castellar\,serif\;">Sponsored by:</span></span></span><br />\n<span style="font-size: 18pt\;"><span style="color: rgb(13\, 13\, 13)\;"><span style="font-family: castellar\,serif\;">Sparta American Legion Post #100</span></span></span><br />\n<span style="font-size: 18pt\;"><span style="color: rgb(13\, 13\, 13)\;"><span style="font-family: castellar\,serif\;">Hwy 21/ 1116 Angelo Rd</span></span></span><br />\n<span style="font-size: 18pt\;"><span style="color: rgb(13\, 13\, 13)\;"><span style="font-family: castellar\,serif\;">(608) 269-4411</span></span></span><br />\n&nbsp\;<br />\n<strong><span style="font-size: 18pt\;"><span style="font-family: castellar\,serif\;">11:00am-2:00pm</span></span></strong><br />\n<strong><span style="font-size: 18pt\;"><span style="font-family: castellar\,serif\;">December 25\, 2015</span></span></strong><br />\n<span style="font-size: 18pt\;"><span style="color: red\;"><span style="font-family: century schoolbook\,serif\;">Meal is FREE\, donations accepted and appreciated</span></span></span><br />\n<span style="font-size: 12pt\;"><span style="font-family: cambria\,serif\;">(Proceeds from the event will be returned back to the community through local charities)</span></span><br />\n<span style="font-size: 18pt\;"><span style="color: red\;"><span style="font-family: century schoolbook\,serif\;">Reservations for five or more people requested</span></span></span><br />\n&nbsp\;<br />\n<span style="font-size: 18pt\;"><span style="font-family: century schoolbook\,serif\;">Home deliveries available to homebound individuals</span></span><br />\n<span style="font-size: 18pt\;"><span style="font-family: century schoolbook\,serif\;">Call the American Legion at 269-4411</span></span><br />\n<span style="font-size: 18pt\;"><span style="font-family: century schoolbook\,serif\;">Delivered approximately 10:45am - 12:00 noon</span></span><br />\n<span style="font-size: 18pt\;"><span style="font-family: century schoolbook\,serif\;">Carry outs also available at the Legion</span></span><br />\n&nbsp\;<br />\n<span style="font-size: 18pt\;"><span style="color: rgb(0\, 176\, 80)\;"><span style="font-family: century schoolbook\,serif\;">Menu:</span></span></span><br />\n<span style="font-size: 18pt\;"><span style="color: rgb(0\, 176\, 80)\;"><span style="font-family: century schoolbook\,serif\;">Turkey\, Ham\, Mashed Potatoes\, Yams\, Dressing\, Vegetables\, Cranberries\, Dinner Roll\, Pumpkin Pie\, and Other Assorted Dessert</span></span></span><br />\n&nbsp\;<br />\n<span style="font-size: 14pt\;"><span style="font-family: century schoolbook\,serif\;">For more information\, call American Legion at (608) 269-4411</span></span>
LOCATION:111 Angelo Rd Sparta\, WI
UID:e.62.4476
SEQUENCE:3
DTSTAMP:20260425T171535Z
URL:https://tourism.bikesparta.com/events/details/community-christmas-dinner-12-25-2019-4476
END:VEVENT

END:VCALENDAR
