BEGIN:VCALENDAR
VERSION:2.0
PRODID:-//ChamberMaster//Event Calendar 2.0//EN
METHOD:PUBLISH
X-PUBLISHED-TTL:P3D
REFRESH-INTERVAL:P3D
CALSCALE:GREGORIAN
BEGIN:VEVENT
DTSTART:20230328T210000Z
DTEND:20230329T000000Z
X-MICROSOFT-CDO-ALLDAYEVENT:FALSE
SUMMARY:Community Health Resource Fair
DESCRIPTION:Health Community Resources from local organizations\n\n	Food\n	Housing\n	Parent support\n	Senior resources\n	Volunteer opportunities\n\nFree health screenings\n\nCOVID-19 Vaccines\n\n\n\nHealth Center tours\n\nLight refreshments
X-ALT-DESC;FMTTYPE=text/html:Health Community Resources from local organizations\n<ul>\n	<li>Food</li>\n	<li>Housing</li>\n	<li>Parent support</li>\n	<li>Senior resources</li>\n	<li>Volunteer opportunities</li>\n</ul>\nFree health screenings<br />\nCOVID-19 Vaccines<br />\n<br />\nHealth Center tours<br />\nLight refreshments
LOCATION:Scenic Bluffs Community Health Centers 200 W North St Norwalk\, WI
UID:e.62.22666
SEQUENCE:3
DTSTAMP:20260420T114249Z
URL:https://tourism.bikesparta.com/events/details/community-health-resource-fair-22666
END:VEVENT

END:VCALENDAR
