BEGIN:VCALENDAR
VERSION:2.0
PRODID:-//ChamberMaster//Event Calendar 2.0//EN
METHOD:PUBLISH
X-PUBLISHED-TTL:P3D
REFRESH-INTERVAL:P3D
CALSCALE:GREGORIAN
BEGIN:VEVENT
DTSTART:20191128T170000Z
DTEND:20191128T190000Z
X-MICROSOFT-CDO-ALLDAYEVENT:FALSE
SUMMARY:Community Thanksgiving Dinner
DESCRIPTION:The Sparta Community Dinner is open to the public for Thanksgiving at the Sparta American Legion.\n\nAll are Welcome\, come as a family and enjoy this feast with your neighbors.\n\n\n\nThe meal is free\; free will donations will be accepted. Donations are disbursed to support the community.\n\n\n\nFree ride- Please call Sparta Cab @ 269-2222\n\nMeal delivery- Please call 269-8690 before November 24th\n\nTransportation for wheel-chair bound passengers provided by Morrow Home- Call 269-3168 before November 24th\n\n\n\nSponsored by Sparta Ministerial Association\, Monroe County Senior Services\, Monroe County Publishers\, Morrow Home and Sparta Cab
X-ALT-DESC;FMTTYPE=text/html:<p><span style="font-family:arial\;">The Sparta Community Dinner is open to the public for Thanksgiving at the Sparta American Legion.<br />\nAll are Welcome\, come as a family and enjoy this feast with your neighbors.<br />\n<br />\nThe meal is free\; free will donations will be accepted. Donations are disbursed to support the community.<br />\n<br />\nFree ride- Please call Sparta Cab @ 269-2222<br />\nMeal delivery- Please call 269-8690 before November 24th<br />\nTransportation for wheel-chair bound passengers provided by Morrow Home- Call 269-3168 before November 24th<br />\n<br />\nSponsored by Sparta Ministerial Association\, Monroe County Senior Services\, Monroe County Publishers\, Morrow Home and Sparta Cab</span></p>\n
LOCATION:American Legion 1116 Angelo Rd Sparta\, WI
UID:e.62.4488
SEQUENCE:3
DTSTAMP:20260425T182749Z
URL:https://tourism.bikesparta.com/events/details/community-thanksgiving-dinner-11-28-2019-4488
END:VEVENT

END:VCALENDAR
