BEGIN:VCALENDAR
VERSION:2.0
PRODID:-//ChamberMaster//Event Calendar 2.0//EN
METHOD:PUBLISH
X-PUBLISHED-TTL:P3D
REFRESH-INTERVAL:P3D
CALSCALE:GREGORIAN
BEGIN:VEVENT
DTSTART:20240722T170000Z
DTEND:20240722T183000Z
X-MICROSOFT-CDO-ALLDAYEVENT:FALSE
SUMMARY:Email Marketing Basics
DESCRIPTION:Does starting an email list overwhelm you? Are you unsure of what to write in an email or how to make them engaging? Are you just not using that email list you already started? If you answered yes\, then you should attend our Email Marketing Basics! One of the most important things to have in your marketing is to have an email list that you are utilizing! You will learn:   the importance of an email   how to set up and utilize an email list   how to create engaging emails   what type of content to write and how to write   ideal length and time/day to send emails   how to properly track engagement on emails and interpret the analytics
X-ALT-DESC;FMTTYPE=text/html:Does starting an email list overwhelm you? Are you unsure of what to write in an email or how to make them engaging? Are you just not using that email list you already started? If you answered yes\, then you should attend our Email Marketing Basics! One of the most important things to have in your marketing is to have an email list that you are utilizing! You will learn: &bull\; the importance of an email &bull\; how to set up and utilize an email list &bull\; how to create engaging emails &bull\; what type of content to write and how to write &bull\; ideal length and time/day to send emails &bull\; how to properly track engagement on emails and interpret the analytics
LOCATION:3500 State Road 16\, La Crosse WI 54601
UID:e.62.22994
SEQUENCE:3
DTSTAMP:20260420T052108Z
URL:https://tourism.bikesparta.com/events/details/email-marketing-basics-22994
END:VEVENT

END:VCALENDAR
