BEGIN:VCALENDAR
VERSION:2.0
PRODID:-//ChamberMaster//Event Calendar 2.0//EN
METHOD:PUBLISH
X-PUBLISHED-TTL:P3D
REFRESH-INTERVAL:P3D
CALSCALE:GREGORIAN
BEGIN:VEVENT
DTSTART:20221108T233000Z
DTEND:20221109T003000Z
X-MICROSOFT-CDO-ALLDAYEVENT:FALSE
SUMMARY:Forever Young Book Club
DESCRIPTION:A Good Girl's Guide to Murder by Holly Jackson\n\n\n\nJoin us for our first Forever Young Book Club\, a book club for lovers of Young Adult books. \n\n\n\nOpen to teens and adults of all ages.
X-ALT-DESC;FMTTYPE=text/html:A Good Girl&#39\;s Guide to Murder by Holly Jackson<br />\n<br />\nJoin us for our first Forever Young Book Club\, a book club for lovers of Young Adult books.&nbsp\;<br />\n<br />\nOpen to teens and adults of all ages.
LOCATION:Sparta Free Library 124 W Main St.\, Sparta
UID:e.62.21942
SEQUENCE:3
DTSTAMP:20260423T100134Z
URL:https://tourism.bikesparta.com/events/details/forever-young-book-club-21942
END:VEVENT

END:VCALENDAR
