BEGIN:VCALENDAR
VERSION:2.0
PRODID:-//ChamberMaster//Event Calendar 2.0//EN
METHOD:PUBLISH
X-PUBLISHED-TTL:P3D
REFRESH-INTERVAL:P3D
CALSCALE:GREGORIAN
BEGIN:VEVENT
DTSTART:20230905T220000Z
DTEND:20230905T233000Z
X-MICROSOFT-CDO-ALLDAYEVENT:FALSE
SUMMARY:Free Health Clinic
DESCRIPTION:St. Clare Health Mission of Monroe County\n\n\n\nBasic health care treatment for acute and chronic medical problems\n\nIn-house pharmacy for prescribed medications (no narcotics are prescribed)\n\nReferrals to Mayo or Gundersen specialists if recommended by volunteer providers\n\n\n\nFor adults 18 years of age and older with no public or private medical insurance. Financial eligibility is reviewed at registration and is based on income and family size.\n\nNo services available for mental health counseling\, dental or vision care
X-ALT-DESC;FMTTYPE=text/html:St. Clare Health Mission of Monroe County<br />\n<br />\nBasic health care treatment for acute and chronic medical problems<br />\nIn-house pharmacy for prescribed medications (no narcotics are prescribed)<br />\nReferrals to Mayo or Gundersen specialists if recommended by volunteer providers<br />\n<br />\nFor adults 18 years of age and older with no public or private medical insurance. Financial eligibility is reviewed at registration and is based on income and family size.<br />\nNo services available for mental health counseling\, dental or vision care
LOCATION:Mayo Clinic 310 W Main St Sparta\, WI 54656
UID:e.62.22650
SEQUENCE:3
DTSTAMP:20260419T164625Z
URL:https://tourism.bikesparta.com/events/details/free-health-clinic-09-05-2023-22650
END:VEVENT

END:VCALENDAR
