BEGIN:VCALENDAR
VERSION:2.0
PRODID:-//ChamberMaster//Event Calendar 2.0//EN
METHOD:PUBLISH
X-PUBLISHED-TTL:P3D
REFRESH-INTERVAL:P3D
CALSCALE:GREGORIAN
BEGIN:VEVENT
DTSTART:20221113T170000Z
DTEND:20221113T220000Z
X-MICROSOFT-CDO-ALLDAYEVENT:FALSE
SUMMARY:Green Bay Packer Tailgate fundraiser
DESCRIPTION:The Sparta Lions Club will be having Their annual Green bay packers Tailgate party. There will be food\, Beverages\, raffle baskets\, and raffle Tickets for some awesome prizes. The game will be on the big screen TV.
X-ALT-DESC;FMTTYPE=text/html:The Sparta Lions Club will be having Their annual Green bay packers Tailgate party. There will be food\, Beverages\, raffle baskets\, and raffle Tickets for some awesome prizes. The game will be on the big screen TV.
LOCATION:Sparta America Legion
UID:e.62.21468
SEQUENCE:3
DTSTAMP:20260423T100103Z
URL:https://tourism.bikesparta.com/events/details/green-bay-packer-tailgate-fundraiser-21468
END:VEVENT

END:VCALENDAR
