BEGIN:VCALENDAR
VERSION:2.0
PRODID:-//ChamberMaster//Event Calendar 2.0//EN
METHOD:PUBLISH
X-PUBLISHED-TTL:P3D
REFRESH-INTERVAL:P3D
CALSCALE:GREGORIAN
BEGIN:VEVENT
DTSTART:20221119T150000Z
DTEND:20221119T213000Z
X-MICROSOFT-CDO-ALLDAYEVENT:FALSE
SUMMARY:Holiday Extravaganza
DESCRIPTION:Holiday Extravaganza\, Direct Sales & Crafters Show
X-ALT-DESC;FMTTYPE=text/html:Holiday Extravaganza\, Direct Sales &amp\; Crafters Show&nbsp\;&nbsp\;&nbsp\;&nbsp\;
LOCATION:Area Community Theatre 907 Kilbourn Ave\, Tomah In conjunction with Tomah's Great Holiday Shopping Hunt at these other locations: Holiday Arts & Crafts Fair\, Recreation Buliding\, Monroe County Fairgrounds Sip & Shop to benefit the Brenda Szeflinski Scholarship Fund\, Murray's on Main Upper Level\, 810 Superior Ave United Women of Faith Craft Show\, First United Methodist Church\, 1105 Butts Ave
UID:e.62.21939
SEQUENCE:3
DTSTAMP:20260423T095951Z
URL:https://tourism.bikesparta.com/events/details/holiday-extravaganza-21939
END:VEVENT

END:VCALENDAR
