BEGIN:VCALENDAR
VERSION:2.0
PRODID:-//ChamberMaster//Event Calendar 2.0//EN
METHOD:PUBLISH
X-PUBLISHED-TTL:P3D
REFRESH-INTERVAL:P3D
CALSCALE:GREGORIAN
BEGIN:VEVENT
DTSTART:20230601T233500Z
DTEND:20230602T023500Z
X-MICROSOFT-CDO-ALLDAYEVENT:FALSE
SUMMARY:La Crosse Loggers Home Game
DESCRIPTION:La Crosse Loggers Baseball\n\nvs. Eau Claire Express
X-ALT-DESC;FMTTYPE=text/html:La Crosse Loggers Baseball<br />\nvs. Eau Claire Express&nbsp\;&nbsp\;&nbsp\;&nbsp\;
LOCATION:Copeland Park 1130 Copeland Park Dr La Crosse\, Wi
UID:e.62.22791
SEQUENCE:3
DTSTAMP:20260419T092339Z
URL:https://tourism.bikesparta.com/events/details/la-crosse-loggers-home-game-06-01-2023-22791
END:VEVENT

END:VCALENDAR
