BEGIN:VCALENDAR
VERSION:2.0
PRODID:-//ChamberMaster//Event Calendar 2.0//EN
METHOD:PUBLISH
X-PUBLISHED-TTL:P3D
REFRESH-INTERVAL:P3D
CALSCALE:GREGORIAN
BEGIN:VEVENT
DTSTART:20230903T140000Z
DTEND:20230904T070000Z
X-MICROSOFT-CDO-ALLDAYEVENT:FALSE
SUMMARY:Labor Day Weekend Volleyball & Music
DESCRIPTION:Sunday Funday for Labor Day Weekend! Come for breakfast and stay for the fun! 2 for 1 bloodies and mimosas till noon (no sharing)! Grilled Pork Chop Sandwiches! Co-ed volleyball tourney! $60 per team. Yard games! Music by Austin Skalecki at 9pm! Let's party it up!
X-ALT-DESC;FMTTYPE=text/html:Sunday Funday for Labor Day Weekend! Come for breakfast and stay for the fun! 2 for 1 bloodies and mimosas till noon (no sharing)! Grilled Pork Chop Sandwiches! Co-ed volleyball tourney! $60 per team. Yard games! Music by Austin Skalecki at 9pm! Let&#39\;s party it up!
LOCATION:The Vault
UID:e.62.22885
SEQUENCE:3
DTSTAMP:20260421T052437Z
URL:https://tourism.bikesparta.com/events/details/labor-day-weekend-volleyball-music-22885
END:VEVENT

END:VCALENDAR
