BEGIN:VCALENDAR
VERSION:2.0
PRODID:-//ChamberMaster//Event Calendar 2.0//EN
METHOD:PUBLISH
X-PUBLISHED-TTL:P3D
REFRESH-INTERVAL:P3D
CALSCALE:GREGORIAN
BEGIN:VEVENT
DTSTART:20200323T120000Z
DTEND:20200323T140000Z
X-MICROSOFT-CDO-ALLDAYEVENT:FALSE
SUMMARY:Legislative Breakfast
DESCRIPTION:Meet and greet your local and state representative over breakfast
X-ALT-DESC;FMTTYPE=text/html:Meet and greet your local and state representative over breakfast
LOCATION:Sparta Family Restaurant 700 Avon Rd Sparta\, Wi
UID:e.62.4067
SEQUENCE:3
DTSTAMP:20260425T134437Z
URL:https://tourism.bikesparta.com/events/details/legislative-breakfast-03-23-2020-4067
END:VEVENT

END:VCALENDAR
