BEGIN:VCALENDAR
VERSION:2.0
PRODID:-//ChamberMaster//Event Calendar 2.0//EN
METHOD:PUBLISH
X-PUBLISHED-TTL:P3D
REFRESH-INTERVAL:P3D
CALSCALE:GREGORIAN
BEGIN:VEVENT
DTSTART:20320309T000000Z
DTEND:20320309T020000Z
X-MICROSOFT-CDO-ALLDAYEVENT:FALSE
SUMMARY:Lions Club Meeting
DESCRIPTION:Join the Lions Club for the monthly business meeting
X-ALT-DESC;FMTTYPE=text/html:Join the Lions Club for the monthly business meeting
LOCATION:Sparta Legion 1116 Angelo Rd\, Sparta
UID:e.62.22529
SEQUENCE:3
DTSTAMP:20260420T044314Z
URL:https://tourism.bikesparta.com/events/details/lions-club-meeting-03-08-2032-22529
END:VEVENT

END:VCALENDAR
