BEGIN:VCALENDAR
VERSION:2.0
PRODID:-//ChamberMaster//Event Calendar 2.0//EN
METHOD:PUBLISH
X-PUBLISHED-TTL:P3D
REFRESH-INTERVAL:P3D
CALSCALE:GREGORIAN
BEGIN:VEVENT
DTSTART:20221104T160000Z
DTEND:20221104T173000Z
X-MICROSOFT-CDO-ALLDAYEVENT:FALSE
SUMMARY:Lunch Bunch Memory Café
DESCRIPTION:The Memory Caf  is a place to meet with others living with Mild Cognitive Impairment (MCI)\, Alzheimer's\, or other related dementia and their Care Partner in a relaxed and friendly atmosphere. \n\n\n\nCommunity resource information will be available each month. Staff from Aging & Disability Resource Center will be available to answer questions and visit with Care Partners during the Caf .
X-ALT-DESC;FMTTYPE=text/html:The Memory Caf&eacute\; is a place to meet with others living with Mild Cognitive Impairment (MCI)\, Alzheimer&#39\;s\, or other related dementia and their Care Partner in a relaxed and friendly atmosphere.&nbsp\;<br />\n<br />\nCommunity resource information will be available each month. Staff from Aging &amp\; Disability Resource Center will be available to answer questions and visit with Care Partners during the Caf&eacute\;.&nbsp\;
LOCATION:Tomah Perkins 1015 E McCoy Blvd Tomah\, WI
UID:e.62.21721
SEQUENCE:3
DTSTAMP:20260423T112819Z
URL:https://tourism.bikesparta.com/events/details/lunch-bunch-memory-caf&#233;-11-04-2022-21721
END:VEVENT

END:VCALENDAR
