BEGIN:VCALENDAR
VERSION:2.0
PRODID:-//ChamberMaster//Event Calendar 2.0//EN
METHOD:PUBLISH
X-PUBLISHED-TTL:P3D
REFRESH-INTERVAL:P3D
CALSCALE:GREGORIAN
BEGIN:VEVENT
DTSTART:20320531T150000Z
DTEND:20320531T170000Z
X-MICROSOFT-CDO-ALLDAYEVENT:FALSE
SUMMARY:Memorial Day Parade and Ceremonies
DESCRIPTION:
X-ALT-DESC;FMTTYPE=text/html:
LOCATION:The Parade will begin at South Water Street and Travel to Blyton Park where the Memorial Ceremony will start directly after the parade.
UID:e.62.20951
SEQUENCE:3
DTSTAMP:20260420T081009Z
URL:https://tourism.bikesparta.com/events/details/memorial-day-parade-and-ceremonies-05-31-2032-20951
END:VEVENT

END:VCALENDAR
