BEGIN:VCALENDAR
VERSION:2.0
PRODID:-//ChamberMaster//Event Calendar 2.0//EN
METHOD:PUBLISH
X-PUBLISHED-TTL:P3D
REFRESH-INTERVAL:P3D
CALSCALE:GREGORIAN
BEGIN:VEVENT
DTSTART:20221121T150000Z
DTEND:20221122T010000Z
X-MICROSOFT-CDO-ALLDAYEVENT:FALSE
SUMMARY:Mug Painting
DESCRIPTION:Adults 18 and older\, join us for a bit of creative relaxation. We'll have the fireplace lit\, seasonal music playing\, and coffee and hot cocoa available for you to enjoy while you decorate your mug.
X-ALT-DESC;FMTTYPE=text/html:Adults 18 and older\, join us for a bit of creative relaxation. We&#39\;ll have the fireplace lit\, seasonal music playing\, and coffee and hot cocoa available for you to enjoy while you decorate your mug.
LOCATION:Carnegie Room at Sparta Library 124 W Main St\, Sparta
UID:e.62.21941
SEQUENCE:3
DTSTAMP:20260423T100012Z
URL:https://tourism.bikesparta.com/events/details/mug-painting-21941
END:VEVENT

END:VCALENDAR
