BEGIN:VCALENDAR
VERSION:2.0
PRODID:-//ChamberMaster//Event Calendar 2.0//EN
METHOD:PUBLISH
X-PUBLISHED-TTL:P3D
REFRESH-INTERVAL:P3D
CALSCALE:GREGORIAN
BEGIN:VEVENT
DTSTART:20221112T160000Z
DTEND:20221112T220000Z
X-MICROSOFT-CDO-ALLDAYEVENT:FALSE
SUMMARY:Open Air Market
DESCRIPTION:
X-ALT-DESC;FMTTYPE=text/html:
LOCATION:Mueller Square Huts 120 N Water St\, Sparta
UID:e.62.21488
SEQUENCE:3
DTSTAMP:20260419T120517Z
URL:https://tourism.bikesparta.com/events/details/open-air-market-11-12-2022-21488
END:VEVENT

END:VCALENDAR
