BEGIN:VCALENDAR
VERSION:2.0
PRODID:-//ChamberMaster//Event Calendar 2.0//EN
METHOD:PUBLISH
X-PUBLISHED-TTL:P3D
REFRESH-INTERVAL:P3D
CALSCALE:GREGORIAN
BEGIN:VEVENT
DTSTART:20221105T223000Z
DTEND:20221106T003000Z
X-MICROSOFT-CDO-ALLDAYEVENT:FALSE
SUMMARY:Open Skate
DESCRIPTION:Open Skate
X-ALT-DESC;FMTTYPE=text/html:Open Skate&nbsp\;&nbsp\;&nbsp\;&nbsp\;&nbsp\;
LOCATION:Sparta Youth Hockey Club 1121 Montgomery St\, Sparta
UID:e.62.21895
SEQUENCE:3
DTSTAMP:20260419T115623Z
URL:https://tourism.bikesparta.com/events/details/open-skate-21895
END:VEVENT

END:VCALENDAR
