BEGIN:VCALENDAR
VERSION:2.0
PRODID:-//ChamberMaster//Event Calendar 2.0//EN
METHOD:PUBLISH
X-PUBLISHED-TTL:P3D
REFRESH-INTERVAL:P3D
CALSCALE:GREGORIAN
BEGIN:VEVENT
DTSTART:20221101T223000Z
DTEND:20221102T000000Z
X-MICROSOFT-CDO-ALLDAYEVENT:FALSE
SUMMARY:Powerful Tools for Caregivers
DESCRIPTION:Classes for caregivers to help take better care of themselves while caring for others. Gain tools to help: \n\n	reduce stress\n	improve self-confidence\n	manage time\, set goals\, and solve problems\n	better communicate your feelings\n	make tough decisions\n	locate helpful resources
X-ALT-DESC;FMTTYPE=text/html:Classes for caregivers to help take better care of themselves while caring for others. Gain tools to help:&nbsp\;\n<ul>\n	<li>reduce stress</li>\n	<li>improve self-confidence</li>\n	<li>manage time\, set goals\, and solve problems</li>\n	<li>better communicate your feelings</li>\n	<li>make tough decisions</li>\n	<li>locate helpful resources</li>\n</ul>\n
LOCATION:Virtual Attendees will receive The Caregiver Handbook
UID:e.62.21706
SEQUENCE:3
DTSTAMP:20260423T100114Z
URL:https://tourism.bikesparta.com/events/details/powerful-tools-for-caregivers-11-01-2022-21706
END:VEVENT

END:VCALENDAR
