BEGIN:VCALENDAR
VERSION:2.0
PRODID:-//ChamberMaster//Event Calendar 2.0//EN
METHOD:PUBLISH
X-PUBLISHED-TTL:P3D
REFRESH-INTERVAL:P3D
CALSCALE:GREGORIAN
BEGIN:VEVENT
DTSTART;VALUE=DATE:20221126
DTEND;VALUE=DATE:20221127
TRANSP:TRANSPARENT
X-MICROSOFT-CDO-ALLDAYEVENT:TRUE
SUMMARY:Shop Small Christmas Crawl
DESCRIPTION:Shop Small Saturday is a day to support local Small businesses while meeting all of your Christmas Shopping needs. By participating in the Shop Small Christmas Crawl\, you support small businesses right here in Sparta as well as get chances to win some amazing prizes provided by the businesses participating.
X-ALT-DESC;FMTTYPE=text/html:<span style="color: rgb(5\, 5\, 5)\; font-family: &quot\;Segoe UI Historic&quot\;\, &quot\;Segoe UI&quot\;\, Helvetica\, Arial\, sans-serif\; font-size: 18.75px\;">Shop Small Saturday is a day to support local Small businesses while meeting all of your Christmas Shopping needs. By participating in the Shop Small Christmas Crawl\, you support small businesses right here in Sparta as well as get chances to win some amazing prizes provided by the businesses participating.</span>
LOCATION:Pick up a checklist from a participating member or click this link to print at home. https://docs.google.com/document/d/1X24y_O70dkZh2Y_EjrExUMyt5o42JyqTVsazngxF-EQ/export?format=pdf
UID:e.62.20573
SEQUENCE:3
DTSTAMP:20260419T120358Z
URL:https://tourism.bikesparta.com/events/details/shop-small-christmas-crawl-11-26-2022-20573
END:VEVENT

END:VCALENDAR
