BEGIN:VCALENDAR
VERSION:2.0
PRODID:-//ChamberMaster//Event Calendar 2.0//EN
METHOD:PUBLISH
X-PUBLISHED-TTL:P3D
REFRESH-INTERVAL:P3D
CALSCALE:GREGORIAN
BEGIN:VEVENT
DTSTART:20230930T160000Z
DTEND:20231001T010000Z
X-MICROSOFT-CDO-ALLDAYEVENT:FALSE
SUMMARY:Sparta Rotary's Rock 'n' Raise
DESCRIPTION:Sparta Rotary is hosting its first ever Rock 'n' Raise! It will be a day full of food\, fun\, and music. We will be hosting a Chicken-Q\, Bingo Games\, Bean Bag Tournament\, and topping off the night with Pat Watters Band! Throughout the day there will be 50/50 raffles\, pull tabs\, and tip boards. All proceeds will go to the City of Sparta's future All-Abilities Park project!
X-ALT-DESC;FMTTYPE=text/html:Sparta Rotary is hosting its first ever Rock &#39\;n&#39\; Raise! It will be a day full of food\, fun\, and music. We will be hosting a Chicken-Q\, Bingo Games\, Bean Bag Tournament\, and topping off the night with Pat Watters Band! Throughout the day there will be 50/50 raffles\, pull tabs\, and tip boards. All proceeds will go to the City of Sparta&#39\;s future All-Abilities Park project!
LOCATION:Leon Community Club
UID:e.62.22887
SEQUENCE:3
DTSTAMP:20260423T100140Z
URL:https://tourism.bikesparta.com/events/details/sparta-rotary-s-rock-n-raise-22887
END:VEVENT

END:VCALENDAR
