BEGIN:VCALENDAR
VERSION:2.0
PRODID:-//ChamberMaster//Event Calendar 2.0//EN
METHOD:PUBLISH
X-PUBLISHED-TTL:P3D
REFRESH-INTERVAL:P3D
CALSCALE:GREGORIAN
BEGIN:VEVENT
DTSTART;VALUE=DATE:20220215
DTEND;VALUE=DATE:20220217
TRANSP:TRANSPARENT
X-MICROSOFT-CDO-ALLDAYEVENT:TRUE
SUMMARY:Spartan Roundup
DESCRIPTION:Previously called Child Development Days. Sign up today for an available time slot at spartan.org. Opportunity to get a free developmental screening for any child with a birthdate between September 1\, 2017 and March 31\, 2019. Also a chance to sign your child up for Pre K for the 2022-2023 school year.
X-ALT-DESC;FMTTYPE=text/html:Previously called Child Development Days. Sign up today for an available time slot at spartan.org. Opportunity to get a free developmental screening for any child with a birthdate between September 1\, 2017 and March 31\, 2019. Also a chance to sign your child up for Pre K for the 2022-2023 school year.
LOCATION:Southside Early Learning Center
UID:e.62.20614
SEQUENCE:3
DTSTAMP:20260426T024324Z
URL:https://tourism.bikesparta.com/events/details/spartan-roundup-20614
END:VEVENT

END:VCALENDAR
