BEGIN:VCALENDAR
VERSION:2.0
PRODID:-//ChamberMaster//Event Calendar 2.0//EN
METHOD:PUBLISH
X-PUBLISHED-TTL:P3D
REFRESH-INTERVAL:P3D
CALSCALE:GREGORIAN
BEGIN:VEVENT
DTSTART:20221110T213000Z
DTEND:20221110T223000Z
X-MICROSOFT-CDO-ALLDAYEVENT:FALSE
SUMMARY:Teen Stress Relief
DESCRIPTION:Relax and learn stress relief techniques\, make DIY stress balls\, and play with Orbeez\, kinetic sand\, and more!\n\n\n\nOnly open to grades 6-12.
X-ALT-DESC;FMTTYPE=text/html:Relax and learn stress relief techniques\, make DIY stress balls\, and play with Orbeez\, kinetic sand\, and more!<br />\n<br />\nOnly open to grades 6-12.
LOCATION:Sparta Free Library 124 W Main St\, Sparta
UID:e.62.21955
SEQUENCE:3
DTSTAMP:20260423T101643Z
URL:https://tourism.bikesparta.com/events/details/teen-stress-relief-21955
END:VEVENT

END:VCALENDAR
